BEGIN:VCALENDAR
VERSION:2.0
PRODID:-//Parkinson Society British Columbia - ECPv6.15.20//NONSGML v1.0//EN
CALSCALE:GREGORIAN
METHOD:PUBLISH
X-ORIGINAL-URL:https://parkinson.bc.ca
X-WR-CALDESC:Events for Parkinson Society British Columbia
REFRESH-INTERVAL;VALUE=DURATION:PT1H
X-Robots-Tag:noindex
X-PUBLISHED-TTL:PT1H
BEGIN:VTIMEZONE
TZID:America/Vancouver
BEGIN:DAYLIGHT
TZOFFSETFROM:-0800
TZOFFSETTO:-0700
TZNAME:PDT
DTSTART:20250309T100000
END:DAYLIGHT
BEGIN:STANDARD
TZOFFSETFROM:-0700
TZOFFSETTO:-0800
TZNAME:PST
DTSTART:20251102T090000
END:STANDARD
BEGIN:DAYLIGHT
TZOFFSETFROM:-0800
TZOFFSETTO:-0700
TZNAME:PDT
DTSTART:20260308T100000
END:DAYLIGHT
BEGIN:STANDARD
TZOFFSETFROM:-0700
TZOFFSETTO:-0800
TZNAME:PST
DTSTART:20261101T090000
END:STANDARD
BEGIN:DAYLIGHT
TZOFFSETFROM:-0800
TZOFFSETTO:-0700
TZNAME:PDT
DTSTART:20270314T100000
END:DAYLIGHT
BEGIN:STANDARD
TZOFFSETFROM:-0700
TZOFFSETTO:-0800
TZNAME:PST
DTSTART:20271107T090000
END:STANDARD
END:VTIMEZONE
BEGIN:VEVENT
DTSTART;TZID=America/Vancouver:20260303T113000
DTEND;TZID=America/Vancouver:20260303T123000
DTSTAMP:20260425T053521
CREATED:20251205T001217Z
LAST-MODIFIED:20260115T185139Z
UID:990001004-1772537400-1772541000@parkinson.bc.ca
SUMMARY:Voice Aerobics®
DESCRIPTION:Dates: February 17\, 24\, and March 3\, 10\, & 17 \nVoice Aerobics®: Whole-Body Approach to Voice Practice \nVoice Aerobics® is a 50-minute class which couples voice practice with movement. It was developed as a 3-part program with focus on Posture\, Breathing\, and Voice. During each session of this 5-week series\, Mary will focus on different aspects of speech production and interject some swallowing exercises. Time will be available at the conclusion of each class to respond to questions regarding motor speech and swallowing symptoms associated with Parkinson’s disease. This class is appropriate for anyone with Parkinson’s or related diagnosis\, and all exercises can be done seated. \nInstructor:\nMary Spremulli\, MA\, CCC-SLP has been a healthcare provider for over 30 years\, and currently holds a nursing license in Florida and Speech Language Pathology license in Florida\, Ohio\, and North Carolina. She is owner of Voice Aerobics\, a speech-language pathology private practice located in Punta Gorda\, Florida\, and is also the creator of Voice Aerobics®\, A Whole- Body Voice Strengthening Program along with a family of products blending the art and science of voice therapy into fun home-based practice. Her blog has been selected as one of the top 49 blogs about Parkinson’s disease\, and she currently serves on the Medical Advisory Board of the Neuro Challenge Foundation\, Sarasota\, Florida\, and is a Clinical Consultant with Speech Vive\, Speech Aid for Parkinson’s. Visit her website: https://voiceaerobicsdvd.com/ \n\n\n\n\nParkinson Society BC appreciates all gifts\, as they allow us to continue to offer programs people with Parkinson’s disease and their carepartners rely on. If you wish\, you can make a donation by entering an amount in the Additional Donation field.\n\n\n\n  \n\nPlease note: Participation in the voice exercise programs will be done at your own risk within your home. The classes are meant for general information and usage only. They are not intended for and should not replace individualized medical advice and/or individualized assessments given to you by a healthcare professional. Please seek assessments/advice from an appropriate healthcare professional as needed. Parkinson Society BC (PSBC)\, and the instructors of the programs\, will not be held liable for accidents or incidents that may occur in your home. By participating in the voice exercise programs\, you are recognizing that risk of illness and/or injury may be inherent in any voice exercise class and are participating with the express agreement of\, and understanding that the program instructors\, and Parkinson Society BC and its directors\, officers\, employees\, partners\, and agents are hereby released from any and all claims\, costs\, liabilities\, expenses\, or judgements associated with these voice exercises for Parkinson’s programs.
URL:https://parkinson.bc.ca/event/voice-aerobics-2/2026-03-03
CATEGORIES:Activity
END:VEVENT
BEGIN:VEVENT
DTSTART;TZID=America/Vancouver:20260305T130000
DTEND;TZID=America/Vancouver:20260305T140000
DTSTAMP:20260425T053521
CREATED:20251113T233550Z
LAST-MODIFIED:20260312T192956Z
UID:990000976-1772715600-1772719200@parkinson.bc.ca
SUMMARY:SongShine
DESCRIPTION:Please note: You are registering for a series of events. If you register for one event\, you register for the entire series.\nDates: January 15\, 22\, 29\, February 5\, 12\, 19\, 26\, and March 5\, 12 & 19 \nThis program harnesses the power of the brain\, breath\, and emotion to reclaim voices. Joani Bye will engage participants in uplifting sessions of SongShine\, a program using singing\, breath work\, diction\, articulation\, and creative imagination exercises to strengthen voices affected by Parkinson’s or other neurological challenges. SongShine’s goal is to help you communicate more easily and clearly while facilitating a sense of community\, camaraderie\, and confidence in the process! \nJoin Joani for holistic\, fun\, and immersive sessions that will include the following: \n\n\n\nSinging favourite songs\nRelaxation\nBreathing exercises\n\n\n\n\nTongue exercises (for articulation and swallowing)\nLinguistic and vocal instruction\nImagination exercises\n\nWe welcome all individuals with Parkinson’s to this series\, as well as their spouses and/or carepartners\, as they may benefit from learning more about the disease to assist in supporting their loved ones. This is a newly launched 12-week series offered once per year. Registration is on a rolling basis\, with a capacity limit of 25 participants. A waitlist will begin once registration exceeds this limit. Participants who miss two or more sessions in a row without valid reasoning will be moved to the bottom of the waitlist\, and their spot will be offered to the next person waiting. \n\n\n\n\n\nParkinson Society BC appreciates all gifts\, as they allow us to continue to offer programs people with Parkinson’s disease and their carepartners rely on. If you wish\, you can make a donation by entering an amount in the Additional Donation field. \n\n\n\n\n\n\n \n\n\nPlease note: Participation in the voice exercise programs will be done at your own risk within your home. The classes are meant for general information and usage only. They are not intended for and should not replace individualized medical advice and/or individualized assessments given to you by a healthcare professional. Please seek assessments/advice from an appropriate healthcare professional as needed. Parkinson Society BC (PSBC)\, and the instructors of the programs\, will not be held liable for accidents or incidents that may occur in your home. By participating in the voice exercise programs\, you are recognizing that risk of illness and/or injury may be inherent in any voice exercise class and are participating with the express agreement of\, and understanding that the program instructors\, and Parkinson Society BC and its directors\, officers\, employees\, partners\, and agents are hereby released from any and all claims\, costs\, liabilities\, expenses\, or judgements associated with these voice exercises for Parkinson’s programs.
URL:https://parkinson.bc.ca/event/songshine/2026-03-05
CATEGORIES:Activity
END:VEVENT
BEGIN:VEVENT
DTSTART;TZID=America/Vancouver:20260309T110000
DTEND;TZID=America/Vancouver:20260309T113000
DTSTAMP:20260425T053521
CREATED:20251118T182147Z
LAST-MODIFIED:20260312T193245Z
UID:990000983-1773054000-1773055800@parkinson.bc.ca
SUMMARY:Mindfulness Mondays
DESCRIPTION:Please note: You are registering for a series of events. If you register for one event\, you register for the entire series.\nDates: Bi-weekly\, starting Monday\, January 12 \nTake a mindful moment for yourself! Join Registered Clinical Counsellor Sara for a relaxing\, bi-weekly virtual mindfulness session designed for anyone living with or affected by Parkinson’s disease. Through the combination of motor and non-motor symptoms\, Parkinson’s disease can impact our emotional wellbeing. Additionally\, the stressors and complex emotions that caregivers experience can affect the caregiver’s emotional health. These 30-minute guided sessions are a casual and supportive way to start your week\, come to every session or drop in when you can\, all are welcome! \nThrough gentle mindfulness practices\, you’ll learn strategies to:\n•Cultivate calm and self-awareness\n•Manage stress and enhance emotional well-being\n•Focus on the present moment without judgment\n•Practice gratitude and self-compassion\n•Bring mindfulness into everyday life \nWhether you’re new to mindfulness or simply need a reset\, this class offers a peaceful space to regularly reconnect and recharge. \n\n\n\n\n\nParkinson Society BC appreciates all gifts\, as they allow us to continue to offer programs people with Parkinson’s disease and their carepartners rely on. If you wish\, you can make a donation by entering an amount in the Additional Donation field.
URL:https://parkinson.bc.ca/event/mindfulness-mondays/2026-03-09
CATEGORIES:Activity
LOCATION:https://parkinson.bc.ca/event/mindfulness-mondays/2026-03-09
END:VEVENT
BEGIN:VEVENT
DTSTART;TZID=America/Vancouver:20260310T113000
DTEND;TZID=America/Vancouver:20260310T123000
DTSTAMP:20260425T053521
CREATED:20251205T001217Z
LAST-MODIFIED:20260115T185139Z
UID:990001005-1773142200-1773145800@parkinson.bc.ca
SUMMARY:Voice Aerobics®
DESCRIPTION:Dates: February 17\, 24\, and March 3\, 10\, & 17 \nVoice Aerobics®: Whole-Body Approach to Voice Practice \nVoice Aerobics® is a 50-minute class which couples voice practice with movement. It was developed as a 3-part program with focus on Posture\, Breathing\, and Voice. During each session of this 5-week series\, Mary will focus on different aspects of speech production and interject some swallowing exercises. Time will be available at the conclusion of each class to respond to questions regarding motor speech and swallowing symptoms associated with Parkinson’s disease. This class is appropriate for anyone with Parkinson’s or related diagnosis\, and all exercises can be done seated. \nInstructor:\nMary Spremulli\, MA\, CCC-SLP has been a healthcare provider for over 30 years\, and currently holds a nursing license in Florida and Speech Language Pathology license in Florida\, Ohio\, and North Carolina. She is owner of Voice Aerobics\, a speech-language pathology private practice located in Punta Gorda\, Florida\, and is also the creator of Voice Aerobics®\, A Whole- Body Voice Strengthening Program along with a family of products blending the art and science of voice therapy into fun home-based practice. Her blog has been selected as one of the top 49 blogs about Parkinson’s disease\, and she currently serves on the Medical Advisory Board of the Neuro Challenge Foundation\, Sarasota\, Florida\, and is a Clinical Consultant with Speech Vive\, Speech Aid for Parkinson’s. Visit her website: https://voiceaerobicsdvd.com/ \n\n\n\n\nParkinson Society BC appreciates all gifts\, as they allow us to continue to offer programs people with Parkinson’s disease and their carepartners rely on. If you wish\, you can make a donation by entering an amount in the Additional Donation field.\n\n\n\n  \n\nPlease note: Participation in the voice exercise programs will be done at your own risk within your home. The classes are meant for general information and usage only. They are not intended for and should not replace individualized medical advice and/or individualized assessments given to you by a healthcare professional. Please seek assessments/advice from an appropriate healthcare professional as needed. Parkinson Society BC (PSBC)\, and the instructors of the programs\, will not be held liable for accidents or incidents that may occur in your home. By participating in the voice exercise programs\, you are recognizing that risk of illness and/or injury may be inherent in any voice exercise class and are participating with the express agreement of\, and understanding that the program instructors\, and Parkinson Society BC and its directors\, officers\, employees\, partners\, and agents are hereby released from any and all claims\, costs\, liabilities\, expenses\, or judgements associated with these voice exercises for Parkinson’s programs.
URL:https://parkinson.bc.ca/event/voice-aerobics-2/2026-03-10
CATEGORIES:Activity
END:VEVENT
BEGIN:VEVENT
DTSTART;TZID=America/Vancouver:20260312T130000
DTEND;TZID=America/Vancouver:20260312T140000
DTSTAMP:20260425T053521
CREATED:20251113T233550Z
LAST-MODIFIED:20260312T192956Z
UID:990000977-1773320400-1773324000@parkinson.bc.ca
SUMMARY:SongShine
DESCRIPTION:Please note: You are registering for a series of events. If you register for one event\, you register for the entire series.\nDates: January 15\, 22\, 29\, February 5\, 12\, 19\, 26\, and March 5\, 12 & 19 \nThis program harnesses the power of the brain\, breath\, and emotion to reclaim voices. Joani Bye will engage participants in uplifting sessions of SongShine\, a program using singing\, breath work\, diction\, articulation\, and creative imagination exercises to strengthen voices affected by Parkinson’s or other neurological challenges. SongShine’s goal is to help you communicate more easily and clearly while facilitating a sense of community\, camaraderie\, and confidence in the process! \nJoin Joani for holistic\, fun\, and immersive sessions that will include the following: \n\n\n\nSinging favourite songs\nRelaxation\nBreathing exercises\n\n\n\n\nTongue exercises (for articulation and swallowing)\nLinguistic and vocal instruction\nImagination exercises\n\nWe welcome all individuals with Parkinson’s to this series\, as well as their spouses and/or carepartners\, as they may benefit from learning more about the disease to assist in supporting their loved ones. This is a newly launched 12-week series offered once per year. Registration is on a rolling basis\, with a capacity limit of 25 participants. A waitlist will begin once registration exceeds this limit. Participants who miss two or more sessions in a row without valid reasoning will be moved to the bottom of the waitlist\, and their spot will be offered to the next person waiting. \n\n\n\n\n\nParkinson Society BC appreciates all gifts\, as they allow us to continue to offer programs people with Parkinson’s disease and their carepartners rely on. If you wish\, you can make a donation by entering an amount in the Additional Donation field. \n\n\n\n\n\n\n \n\n\nPlease note: Participation in the voice exercise programs will be done at your own risk within your home. The classes are meant for general information and usage only. They are not intended for and should not replace individualized medical advice and/or individualized assessments given to you by a healthcare professional. Please seek assessments/advice from an appropriate healthcare professional as needed. Parkinson Society BC (PSBC)\, and the instructors of the programs\, will not be held liable for accidents or incidents that may occur in your home. By participating in the voice exercise programs\, you are recognizing that risk of illness and/or injury may be inherent in any voice exercise class and are participating with the express agreement of\, and understanding that the program instructors\, and Parkinson Society BC and its directors\, officers\, employees\, partners\, and agents are hereby released from any and all claims\, costs\, liabilities\, expenses\, or judgements associated with these voice exercises for Parkinson’s programs.
URL:https://parkinson.bc.ca/event/songshine/2026-03-12
CATEGORIES:Activity
END:VEVENT
BEGIN:VEVENT
DTSTART;TZID=America/Vancouver:20260317T113000
DTEND;TZID=America/Vancouver:20260317T123000
DTSTAMP:20260425T053521
CREATED:20251205T001217Z
LAST-MODIFIED:20260115T185139Z
UID:990001006-1773747000-1773750600@parkinson.bc.ca
SUMMARY:Voice Aerobics®
DESCRIPTION:Dates: February 17\, 24\, and March 3\, 10\, & 17 \nVoice Aerobics®: Whole-Body Approach to Voice Practice \nVoice Aerobics® is a 50-minute class which couples voice practice with movement. It was developed as a 3-part program with focus on Posture\, Breathing\, and Voice. During each session of this 5-week series\, Mary will focus on different aspects of speech production and interject some swallowing exercises. Time will be available at the conclusion of each class to respond to questions regarding motor speech and swallowing symptoms associated with Parkinson’s disease. This class is appropriate for anyone with Parkinson’s or related diagnosis\, and all exercises can be done seated. \nInstructor:\nMary Spremulli\, MA\, CCC-SLP has been a healthcare provider for over 30 years\, and currently holds a nursing license in Florida and Speech Language Pathology license in Florida\, Ohio\, and North Carolina. She is owner of Voice Aerobics\, a speech-language pathology private practice located in Punta Gorda\, Florida\, and is also the creator of Voice Aerobics®\, A Whole- Body Voice Strengthening Program along with a family of products blending the art and science of voice therapy into fun home-based practice. Her blog has been selected as one of the top 49 blogs about Parkinson’s disease\, and she currently serves on the Medical Advisory Board of the Neuro Challenge Foundation\, Sarasota\, Florida\, and is a Clinical Consultant with Speech Vive\, Speech Aid for Parkinson’s. Visit her website: https://voiceaerobicsdvd.com/ \n\n\n\n\nParkinson Society BC appreciates all gifts\, as they allow us to continue to offer programs people with Parkinson’s disease and their carepartners rely on. If you wish\, you can make a donation by entering an amount in the Additional Donation field.\n\n\n\n  \n\nPlease note: Participation in the voice exercise programs will be done at your own risk within your home. The classes are meant for general information and usage only. They are not intended for and should not replace individualized medical advice and/or individualized assessments given to you by a healthcare professional. Please seek assessments/advice from an appropriate healthcare professional as needed. Parkinson Society BC (PSBC)\, and the instructors of the programs\, will not be held liable for accidents or incidents that may occur in your home. By participating in the voice exercise programs\, you are recognizing that risk of illness and/or injury may be inherent in any voice exercise class and are participating with the express agreement of\, and understanding that the program instructors\, and Parkinson Society BC and its directors\, officers\, employees\, partners\, and agents are hereby released from any and all claims\, costs\, liabilities\, expenses\, or judgements associated with these voice exercises for Parkinson’s programs.
URL:https://parkinson.bc.ca/event/voice-aerobics-2/2026-03-17
CATEGORIES:Activity
END:VEVENT
BEGIN:VEVENT
DTSTART;TZID=America/Vancouver:20260319T130000
DTEND;TZID=America/Vancouver:20260319T140000
DTSTAMP:20260425T053521
CREATED:20251113T233550Z
LAST-MODIFIED:20260312T192956Z
UID:990000978-1773925200-1773928800@parkinson.bc.ca
SUMMARY:SongShine
DESCRIPTION:Please note: You are registering for a series of events. If you register for one event\, you register for the entire series.\nDates: January 15\, 22\, 29\, February 5\, 12\, 19\, 26\, and March 5\, 12 & 19 \nThis program harnesses the power of the brain\, breath\, and emotion to reclaim voices. Joani Bye will engage participants in uplifting sessions of SongShine\, a program using singing\, breath work\, diction\, articulation\, and creative imagination exercises to strengthen voices affected by Parkinson’s or other neurological challenges. SongShine’s goal is to help you communicate more easily and clearly while facilitating a sense of community\, camaraderie\, and confidence in the process! \nJoin Joani for holistic\, fun\, and immersive sessions that will include the following: \n\n\n\nSinging favourite songs\nRelaxation\nBreathing exercises\n\n\n\n\nTongue exercises (for articulation and swallowing)\nLinguistic and vocal instruction\nImagination exercises\n\nWe welcome all individuals with Parkinson’s to this series\, as well as their spouses and/or carepartners\, as they may benefit from learning more about the disease to assist in supporting their loved ones. This is a newly launched 12-week series offered once per year. Registration is on a rolling basis\, with a capacity limit of 25 participants. A waitlist will begin once registration exceeds this limit. Participants who miss two or more sessions in a row without valid reasoning will be moved to the bottom of the waitlist\, and their spot will be offered to the next person waiting. \n\n\n\n\n\nParkinson Society BC appreciates all gifts\, as they allow us to continue to offer programs people with Parkinson’s disease and their carepartners rely on. If you wish\, you can make a donation by entering an amount in the Additional Donation field. \n\n\n\n\n\n\n \n\n\nPlease note: Participation in the voice exercise programs will be done at your own risk within your home. The classes are meant for general information and usage only. They are not intended for and should not replace individualized medical advice and/or individualized assessments given to you by a healthcare professional. Please seek assessments/advice from an appropriate healthcare professional as needed. Parkinson Society BC (PSBC)\, and the instructors of the programs\, will not be held liable for accidents or incidents that may occur in your home. By participating in the voice exercise programs\, you are recognizing that risk of illness and/or injury may be inherent in any voice exercise class and are participating with the express agreement of\, and understanding that the program instructors\, and Parkinson Society BC and its directors\, officers\, employees\, partners\, and agents are hereby released from any and all claims\, costs\, liabilities\, expenses\, or judgements associated with these voice exercises for Parkinson’s programs.
URL:https://parkinson.bc.ca/event/songshine/2026-03-19
CATEGORIES:Activity
END:VEVENT
BEGIN:VEVENT
DTSTART;TZID=America/Vancouver:20260323T110000
DTEND;TZID=America/Vancouver:20260323T113000
DTSTAMP:20260425T053521
CREATED:20251118T182147Z
LAST-MODIFIED:20260312T193245Z
UID:990000984-1774263600-1774265400@parkinson.bc.ca
SUMMARY:Mindfulness Mondays
DESCRIPTION:Please note: You are registering for a series of events. If you register for one event\, you register for the entire series.\nDates: Bi-weekly\, starting Monday\, January 12 \nTake a mindful moment for yourself! Join Registered Clinical Counsellor Sara for a relaxing\, bi-weekly virtual mindfulness session designed for anyone living with or affected by Parkinson’s disease. Through the combination of motor and non-motor symptoms\, Parkinson’s disease can impact our emotional wellbeing. Additionally\, the stressors and complex emotions that caregivers experience can affect the caregiver’s emotional health. These 30-minute guided sessions are a casual and supportive way to start your week\, come to every session or drop in when you can\, all are welcome! \nThrough gentle mindfulness practices\, you’ll learn strategies to:\n•Cultivate calm and self-awareness\n•Manage stress and enhance emotional well-being\n•Focus on the present moment without judgment\n•Practice gratitude and self-compassion\n•Bring mindfulness into everyday life \nWhether you’re new to mindfulness or simply need a reset\, this class offers a peaceful space to regularly reconnect and recharge. \n\n\n\n\n\nParkinson Society BC appreciates all gifts\, as they allow us to continue to offer programs people with Parkinson’s disease and their carepartners rely on. If you wish\, you can make a donation by entering an amount in the Additional Donation field.
URL:https://parkinson.bc.ca/event/mindfulness-mondays/2026-03-23
CATEGORIES:Activity
LOCATION:https://parkinson.bc.ca/event/mindfulness-mondays/2026-03-23
END:VEVENT
BEGIN:VEVENT
DTSTART;TZID=America/Vancouver:20260326T110000
DTEND;TZID=America/Vancouver:20260326T120000
DTSTAMP:20260425T053521
CREATED:20260113T181219Z
LAST-MODIFIED:20260120T231659Z
UID:990001013-1774522800-1774526400@parkinson.bc.ca
SUMMARY:Spring Social: Brain Games
DESCRIPTION:Cognitive challenge plays an important role in supporting brain health for people living with Parkinson’s\, and what better way to do this than in a fun\, social setting? Join us for our Spring Social: Brain Games\, a relaxed and engaging opportunity to connect with others in the Parkinson’s community while giving your brain a workout. \nThis social event is all about enjoyment\, connection\, and friendly challenges\, with a variety of interactive brain games designed to stimulate thinking\, spark conversation\, and share a few laughs along the way. \nThe session will be led by Shelly Yu\, PSBC’s neurophysiotherapist. Shelly brings extensive experience working with people living with Parkinson’s and other neurological conditions. You may also recognize her from several of Parkinson Society BC’s exercise programs. \nWhether you join on your own or with a friend\, this is a wonderful chance to connect\, have fun\, and support both brain health and community. \nWe look forward to seeing you there! \n\n\n\n\n\nParkinson Society BC appreciates all gifts\, as they allow us to continue to offer programs people with Parkinson’s disease and their carepartners rely on. If you wish\, you can make a donation by entering an amount in the Additional Donation field.
URL:https://parkinson.bc.ca/event/spring-social-brain-games
CATEGORIES:Activity
END:VEVENT
END:VCALENDAR